BEGIN:VCALENDAR
VERSION:2.0
CALSCALE:GREGORIAN
PRODID:-//WordPress//RSVPMaker//EN
METHOD:REQUEST
BEGIN:VEVENT
DTSTAMP:20260425T231144Z
UID:B9A25E422BA96F7572089A00B838C3F8@rsvpmaker.com
SEQUENCE:0
STATUS:CONFIRMED
DTSTART:20251120T013000Z
DTEND:20251120T030000Z
LOCATION:See\: https\://sdincose.org/rsvpmaker/overview-of-the-incose-
 architecture-working-group/
SUMMARY:Overview of the INCOSE Architecture Working Group
DESCRIPTION:Event info\: https\://sdincose.org/rsvpmaker/overview-of-t
 he-incose-architecture-working-group/
END:VEVENT
END:VCALENDAR